 BEGIN:VCALENDAR
VERSION:2.0
PRODID:-//TEDxVail - ECPv6.15.20//NONSGML v1.0//EN
CALSCALE:GREGORIAN
METHOD:PUBLISH
X-ORIGINAL-URL:https://tedxvail.com
X-WR-CALDESC:Events for TEDxVail
REFRESH-INTERVAL;VALUE=DURATION:PT1H
X-Robots-Tag:noindex
X-PUBLISHED-TTL:PT1H
BEGIN:VTIMEZONE
TZID:UTC
BEGIN:STANDARD
TZOFFSETFROM:+0000
TZOFFSETTO:+0000
TZNAME:UTC
DTSTART:20230101T000000
END:STANDARD
END:VTIMEZONE
BEGIN:VEVENT
DTSTART;TZID=UTC:20240204T080000
DTEND;TZID=UTC:20240204T170000
DTSTAMP:20260422T185051
CREATED:20240204T234411Z
LAST-MODIFIED:20240204T234411Z
UID:16818-1707033600-1707066000@tedxvail.com
SUMMARY:Think Again 2024
DESCRIPTION:
URL:https://tedxvail.com/event/think-again-2024/
END:VEVENT
BEGIN:VEVENT
DTSTART;TZID=UTC:20240414T130000
DTEND;TZID=UTC:20240414T173000
DTSTAMP:20260422T185051
CREATED:20240204T232902Z
LAST-MODIFIED:20240204T232902Z
UID:16811-1713099600-1713115800@tedxvail.com
SUMMARY:TEDxVail Youth 2024 Think Again
DESCRIPTION:
URL:https://tedxvail.com/event/tedxvail-youth-2024-think-again/
LOCATION:Battle Mountain High School\, 0151 Miller Ranch Rd\, Edwards\, CO\, 81632\, United States
END:VEVENT
END:VCALENDAR